Package: DCATS Version: 1.5.0 Command: /Library/Frameworks/R.framework/Resources/bin/R CMD check --install=check:DCATS.install-out.txt --library=/Library/Frameworks/R.framework/Resources/library --no-vignettes --timings DCATS_1.5.0.tar.gz StartedAt: 2025-02-12 18:54:09 -0500 (Wed, 12 Feb 2025) EndedAt: 2025-02-12 18:54:48 -0500 (Wed, 12 Feb 2025) EllapsedTime: 38.5 seconds RetCode: 0 Status: OK CheckDir: DCATS.Rcheck Warnings: 0