Package: DCATS Version: 1.5.0 Command: /Library/Frameworks/R.framework/Resources/bin/R CMD INSTALL DCATS StartedAt: 2025-02-12 15:20:08 -0500 (Wed, 12 Feb 2025) EndedAt: 2025-02-12 15:20:10 -0500 (Wed, 12 Feb 2025) EllapsedTime: 2.5 seconds RetCode: 0 Status: OK