Package: DCATS Version: 1.5.0 Command: /Library/Frameworks/R.framework/Resources/bin/R CMD check --install=check:DCATS.install-out.txt --library=/Library/Frameworks/R.framework/Resources/library --no-vignettes --timings DCATS_1.5.0.tar.gz StartedAt: 2025-02-09 20:08:56 -0500 (Sun, 09 Feb 2025) EndedAt: 2025-02-09 20:10:42 -0500 (Sun, 09 Feb 2025) EllapsedTime: 106.5 seconds RetCode: 0 Status: OK CheckDir: DCATS.Rcheck Warnings: 0