Package: DCATS Version: 1.5.0 Command: /home/biocbuild/bbs-3.21-bioc/R/bin/R CMD build --keep-empty-dirs --no-resave-data DCATS StartedAt: 2025-02-09 16:53:55 -0500 (Sun, 09 Feb 2025) EndedAt: 2025-02-09 16:54:08 -0500 (Sun, 09 Feb 2025) EllapsedTime: 13.0 seconds RetCode: 0 Status: OK PackageFile: DCATS_1.5.0.tar.gz PackageFileSize: 2.836 MiB