Package: DCATS Version: 1.5.0 Command: /home/biocbuild/bbs-3.21-bioc/R/bin/R CMD INSTALL DCATS StartedAt: 2025-02-09 15:05:46 -0500 (Sun, 09 Feb 2025) EndedAt: 2025-02-09 15:05:54 -0500 (Sun, 09 Feb 2025) EllapsedTime: 7.7 seconds RetCode: 0 Status: OK