Package: DCATS Version: 1.5.0 Command: chmod a+r DCATS -R && E:\biocbuild\bbs-3.21-bioc\R\bin\R.exe CMD build --keep-empty-dirs --no-resave-data DCATS StartedAt: 2025-02-09 18:11:35 -0500 (Sun, 09 Feb 2025) EndedAt: 2025-02-09 18:12:01 -0500 (Sun, 09 Feb 2025) EllapsedTime: 25.8 seconds RetCode: 0 Status: OK PackageFile: DCATS_1.5.0.tar.gz PackageFileSize: 2.836 MiB