Package: DCATS Version: 1.5.0 Command: E:\biocbuild\bbs-3.21-bioc\R\bin\R.exe CMD check --no-multiarch --install=check:DCATS.install-out.txt --library=E:\biocbuild\bbs-3.21-bioc\R\library --no-vignettes --timings DCATS_1.5.0.tar.gz StartedAt: 2025-02-13 00:22:46 -0500 (Thu, 13 Feb 2025) EndedAt: 2025-02-13 00:24:52 -0500 (Thu, 13 Feb 2025) EllapsedTime: 125.9 seconds RetCode: 0 Status: OK CheckDir: DCATS.Rcheck Warnings: 0