Package: DECIPHER Version: 3.3.2 Command: /Library/Frameworks/R.framework/Resources/bin/R CMD build --keep-empty-dirs --no-resave-data DECIPHER StartedAt: 2025-02-09 16:04:10 -0500 (Sun, 09 Feb 2025) EndedAt: 2025-02-09 16:12:56 -0500 (Sun, 09 Feb 2025) EllapsedTime: 526.6 seconds RetCode: 0 Status: OK PackageFile: DECIPHER_3.3.2.tar.gz PackageFileSize: 17.13 MiB