Package: DECIPHER Version: 3.3.2 Command: /Library/Frameworks/R.framework/Resources/bin/R CMD check --install=check:DECIPHER.install-out.txt --library=/Library/Frameworks/R.framework/Resources/library --no-vignettes --timings DECIPHER_3.3.2.tar.gz StartedAt: 2025-02-09 18:51:45 -0500 (Sun, 09 Feb 2025) EndedAt: 2025-02-09 18:58:27 -0500 (Sun, 09 Feb 2025) EllapsedTime: 401.8 seconds RetCode: 0 Status: OK CheckDir: DECIPHER.Rcheck Warnings: 0