Package: DECIPHER Version: 3.3.2 Command: /Library/Frameworks/R.framework/Resources/bin/R CMD INSTALL DECIPHER StartedAt: 2025-02-09 15:11:16 -0500 (Sun, 09 Feb 2025) EndedAt: 2025-02-09 15:12:32 -0500 (Sun, 09 Feb 2025) EllapsedTime: 76.5 seconds RetCode: 0 Status: OK