Package: DECIPHER Version: 3.3.2 Command: /home/biocbuild/bbs-3.21-bioc/R/bin/R CMD build --keep-empty-dirs --no-resave-data DECIPHER StartedAt: 2025-02-12 16:51:38 -0500 (Wed, 12 Feb 2025) EndedAt: 2025-02-12 17:08:43 -0500 (Wed, 12 Feb 2025) EllapsedTime: 1024.3 seconds RetCode: 0 Status: OK PackageFile: DECIPHER_3.3.2.tar.gz PackageFileSize: 17.09 MiB