Package: DECIPHER Version: 3.3.2 Command: /home/biocbuild/bbs-3.21-bioc/R/bin/R CMD check --install=check:DECIPHER.install-out.txt --library=/home/biocbuild/bbs-3.21-bioc/R/site-library --timings DECIPHER_3.3.2.tar.gz StartedAt: 2025-02-09 21:31:01 -0500 (Sun, 09 Feb 2025) EndedAt: 2025-02-09 22:05:02 -0500 (Sun, 09 Feb 2025) EllapsedTime: 2040.6 seconds RetCode: 0 Status: OK CheckDir: DECIPHER.Rcheck Warnings: 0