Package: DECIPHER Version: 3.3.2 Command: /home/biocbuild/bbs-3.21-bioc/R/bin/R CMD INSTALL DECIPHER StartedAt: 2025-02-09 15:31:23 -0500 (Sun, 09 Feb 2025) EndedAt: 2025-02-09 15:32:23 -0500 (Sun, 09 Feb 2025) EllapsedTime: 60.8 seconds RetCode: 0 Status: OK