Package: DECIPHER Version: 3.3.2 Command: rm -rf DECIPHER.buildbin-libdir && mkdir DECIPHER.buildbin-libdir && E:\biocbuild\bbs-3.21-bioc\R\bin\R.exe CMD INSTALL --build --library=DECIPHER.buildbin-libdir DECIPHER_3.3.2.tar.gz StartedAt: 2025-02-10 07:35:10 -0500 (Mon, 10 Feb 2025) EndedAt: 2025-02-10 07:36:56 -0500 (Mon, 10 Feb 2025) EllapsedTime: 106.1 seconds RetCode: 0 Status: OK PackageFile: DECIPHER_3.3.2.zip PackageFileSize: 16.76 MiB