Package: DECIPHER Version: 3.3.2 Command: chmod a+r DECIPHER -R && E:\biocbuild\bbs-3.21-bioc\R\bin\R.exe CMD build --keep-empty-dirs --no-resave-data DECIPHER StartedAt: 2025-02-09 18:12:38 -0500 (Sun, 09 Feb 2025) EndedAt: 2025-02-09 18:33:46 -0500 (Sun, 09 Feb 2025) EllapsedTime: 1267.7 seconds RetCode: 0 Status: OK PackageFile: DECIPHER_3.3.2.tar.gz PackageFileSize: 17.14 MiB