Package: DECIPHER Version: 3.3.2 Command: E:\biocbuild\bbs-3.21-bioc\R\bin\R.exe CMD INSTALL DECIPHER StartedAt: 2025-02-12 15:45:41 -0500 (Wed, 12 Feb 2025) EndedAt: 2025-02-12 15:47:45 -0500 (Wed, 12 Feb 2025) EllapsedTime: 124.6 seconds RetCode: 0 Status: OK