Package: DEGreport Version: 1.43.0 Command: /Library/Frameworks/R.framework/Resources/bin/R CMD build --keep-empty-dirs --no-resave-data DEGreport StartedAt: 2025-02-05 16:06:48 -0500 (Wed, 05 Feb 2025) EndedAt: 2025-02-05 16:07:15 -0500 (Wed, 05 Feb 2025) EllapsedTime: 27.3 seconds RetCode: 0 Status: OK PackageFile: DEGreport_1.43.0.tar.gz PackageFileSize: 19.73 MiB