Package: DEGreport Version: 1.43.0 Command: /Library/Frameworks/R.framework/Resources/bin/R CMD check --install=check:DEGreport.install-out.txt --library=/Library/Frameworks/R.framework/Resources/library --no-vignettes --timings DEGreport_1.43.0.tar.gz StartedAt: 2025-02-05 18:59:25 -0500 (Wed, 05 Feb 2025) EndedAt: 2025-02-05 19:01:11 -0500 (Wed, 05 Feb 2025) EllapsedTime: 106.2 seconds RetCode: 0 Status: OK CheckDir: DEGreport.Rcheck Warnings: 0