Package: DEGreport Version: 1.43.0 Command: /home/biocbuild/R/R/bin/R CMD check --install=check:DEGreport.install-out.txt --library=/home/biocbuild/R/R/site-library --no-vignettes --timings DEGreport_1.43.0.tar.gz StartedAt: 2025-01-28 09:49:33 -0000 (Tue, 28 Jan 2025) EndedAt: 2025-01-28 09:56:11 -0000 (Tue, 28 Jan 2025) EllapsedTime: 397.4 seconds RetCode: 0 Status: OK CheckDir: DEGreport.Rcheck Warnings: 0