Package: DEGreport Version: 1.43.0 Command: rm -rf DEGreport.buildbin-libdir && mkdir DEGreport.buildbin-libdir && /Users/biocbuild/BBS/utils/build-universal.sh DEGreport_1.43.0.tar.gz /Library/Frameworks/R.framework/Resources/bin/R DEGreport.buildbin-libdir StartedAt: 2025-02-06 00:26:50 -0500 (Thu, 06 Feb 2025) EndedAt: 2025-02-06 00:27:35 -0500 (Thu, 06 Feb 2025) EllapsedTime: 44.9 seconds RetCode: 0 Status: OK PackageFile: DEGreport_1.43.0.tgz PackageFileSize: 3.314 MiB