Package: DEGreport Version: 1.43.0 Command: /Library/Frameworks/R.framework/Resources/bin/R CMD build --keep-empty-dirs --no-resave-data DEGreport StartedAt: 2025-02-05 16:27:20 -0500 (Wed, 05 Feb 2025) EndedAt: 2025-02-05 16:28:36 -0500 (Wed, 05 Feb 2025) EllapsedTime: 76.7 seconds RetCode: 0 Status: OK PackageFile: DEGreport_1.43.0.tar.gz PackageFileSize: 19.71 MiB