Package: DEGreport Version: 1.43.0 Command: /Library/Frameworks/R.framework/Resources/bin/R CMD INSTALL DEGreport StartedAt: 2025-02-05 15:21:48 -0500 (Wed, 05 Feb 2025) EndedAt: 2025-02-05 15:22:27 -0500 (Wed, 05 Feb 2025) EllapsedTime: 39.1 seconds RetCode: 0 Status: OK