Package: DEGreport Version: 1.43.0 Command: E:\biocbuild\bbs-3.21-bioc\R\bin\R.exe CMD check --no-multiarch --install=check:DEGreport.install-out.txt --library=E:\biocbuild\bbs-3.21-bioc\R\library --no-vignettes --timings DEGreport_1.43.0.tar.gz StartedAt: 2025-02-06 00:48:33 -0500 (Thu, 06 Feb 2025) EndedAt: 2025-02-06 00:54:35 -0500 (Thu, 06 Feb 2025) EllapsedTime: 362.3 seconds RetCode: 0 Status: OK CheckDir: DEGreport.Rcheck Warnings: 0