Package: DEGseq Version: 1.61.0 Command: /Library/Frameworks/R.framework/Resources/bin/R CMD build --keep-empty-dirs --no-resave-data DEGseq StartedAt: 2025-02-09 16:05:38 -0500 (Sun, 09 Feb 2025) EndedAt: 2025-02-09 16:05:49 -0500 (Sun, 09 Feb 2025) EllapsedTime: 10.1 seconds RetCode: 0 Status: OK PackageFile: DEGseq_1.61.0.tar.gz PackageFileSize: 1.961 MiB