Package: DELocal Version: 1.7.0 Command: /Library/Frameworks/R.framework/Resources/bin/R CMD build --keep-empty-dirs --no-resave-data DELocal StartedAt: 2025-02-05 16:07:31 -0500 (Wed, 05 Feb 2025) EndedAt: 2025-02-05 16:08:00 -0500 (Wed, 05 Feb 2025) EllapsedTime: 29.3 seconds RetCode: 0 Status: OK PackageFile: DELocal_1.7.0.tar.gz PackageFileSize: 2.334 MiB