Package: DELocal Version: 1.7.0 Command: /Library/Frameworks/R.framework/Resources/bin/R CMD check --install=check:DELocal.install-out.txt --library=/Library/Frameworks/R.framework/Resources/library --no-vignettes --timings DELocal_1.7.0.tar.gz StartedAt: 2025-02-05 18:59:44 -0500 (Wed, 05 Feb 2025) EndedAt: 2025-02-05 19:00:53 -0500 (Wed, 05 Feb 2025) EllapsedTime: 68.7 seconds RetCode: 0 Status: OK CheckDir: DELocal.Rcheck Warnings: 0