Package: DELocal Version: 1.7.0 Command: /Library/Frameworks/R.framework/Resources/bin/R CMD INSTALL DELocal StartedAt: 2025-02-05 15:10:12 -0500 (Wed, 05 Feb 2025) EndedAt: 2025-02-05 15:10:22 -0500 (Wed, 05 Feb 2025) EllapsedTime: 10.3 seconds RetCode: 0 Status: OK