Package: DELocal Version: 1.7.0 Command: /home/biocbuild/R/R/bin/R CMD build --keep-empty-dirs --no-resave-data DELocal StartedAt: 2025-01-28 22:22:27 -0000 (Tue, 28 Jan 2025) EndedAt: 2025-01-28 22:23:16 -0000 (Tue, 28 Jan 2025) EllapsedTime: 49.0 seconds RetCode: 1 Status: ERROR PackageFile: None PackageFileSize: NA