Package: DELocal Version: 1.7.0 Command: rm -rf DELocal.buildbin-libdir && mkdir DELocal.buildbin-libdir && /Users/biocbuild/BBS/utils/build-universal.sh DELocal_1.7.0.tar.gz /Library/Frameworks/R.framework/Resources/bin/R DELocal.buildbin-libdir StartedAt: 2025-02-05 00:36:29 -0500 (Wed, 05 Feb 2025) EndedAt: 2025-02-05 00:37:04 -0500 (Wed, 05 Feb 2025) EllapsedTime: 35.6 seconds RetCode: 0 Status: OK PackageFile: DELocal_1.7.0.tgz PackageFileSize: 2.374 MiB