Package: DELocal Version: 1.7.0 Command: /Library/Frameworks/R.framework/Resources/bin/R CMD build --keep-empty-dirs --no-resave-data DELocal StartedAt: 2025-02-04 16:27:52 -0500 (Tue, 04 Feb 2025) EndedAt: 2025-02-04 16:29:11 -0500 (Tue, 04 Feb 2025) EllapsedTime: 78.8 seconds RetCode: 0 Status: OK PackageFile: DELocal_1.7.0.tar.gz PackageFileSize: 2.334 MiB