Package: DELocal Version: 1.7.0 Command: /Library/Frameworks/R.framework/Resources/bin/R CMD INSTALL DELocal StartedAt: 2025-02-04 15:18:00 -0500 (Tue, 04 Feb 2025) EndedAt: 2025-02-04 15:18:32 -0500 (Tue, 04 Feb 2025) EllapsedTime: 32.5 seconds RetCode: 0 Status: OK