Package: DELocal Version: 1.7.0 Command: /home/biocbuild/bbs-3.21-bioc/R/bin/R CMD build --keep-empty-dirs --no-resave-data DELocal StartedAt: 2025-02-04 16:55:16 -0500 (Tue, 04 Feb 2025) EndedAt: 2025-02-04 16:56:29 -0500 (Tue, 04 Feb 2025) EllapsedTime: 73.1 seconds RetCode: 0 Status: OK PackageFile: DELocal_1.7.0.tar.gz PackageFileSize: 2.343 MiB