Package: DELocal Version: 1.7.0 Command: /home/biocbuild/bbs-3.21-bioc/R/bin/R CMD INSTALL DELocal StartedAt: 2025-02-04 15:20:05 -0500 (Tue, 04 Feb 2025) EndedAt: 2025-02-04 15:20:29 -0500 (Tue, 04 Feb 2025) EllapsedTime: 24.4 seconds RetCode: 0 Status: OK