Package: DELocal Version: 1.7.0 Command: rm -rf DELocal.buildbin-libdir && mkdir DELocal.buildbin-libdir && E:\biocbuild\bbs-3.21-bioc\R\bin\R.exe CMD INSTALL --build --library=DELocal.buildbin-libdir DELocal_1.7.0.tar.gz StartedAt: 2025-02-05 07:47:56 -0500 (Wed, 05 Feb 2025) EndedAt: 2025-02-05 07:48:25 -0500 (Wed, 05 Feb 2025) EllapsedTime: 29.1 seconds RetCode: 0 Status: OK PackageFile: DELocal_1.7.0.zip PackageFileSize: 2.33 MiB