Package: DELocal Version: 1.7.0 Command: chmod a+r DELocal -R && E:\biocbuild\bbs-3.21-bioc\R\bin\R.exe CMD build --keep-empty-dirs --no-resave-data DELocal StartedAt: 2025-02-05 18:21:57 -0500 (Wed, 05 Feb 2025) EndedAt: 2025-02-05 18:23:32 -0500 (Wed, 05 Feb 2025) EllapsedTime: 95.8 seconds RetCode: 0 Status: OK PackageFile: DELocal_1.7.0.tar.gz PackageFileSize: 2.299 MiB