Package: DELocal Version: 1.7.0 Command: E:\biocbuild\bbs-3.21-bioc\R\bin\R.exe CMD check --no-multiarch --install=check:DELocal.install-out.txt --library=E:\biocbuild\bbs-3.21-bioc\R\library --no-vignettes --timings DELocal_1.7.0.tar.gz StartedAt: 2025-02-05 00:49:55 -0500 (Wed, 05 Feb 2025) EndedAt: 2025-02-05 00:53:29 -0500 (Wed, 05 Feb 2025) EllapsedTime: 213.6 seconds RetCode: 0 Status: OK CheckDir: DELocal.Rcheck Warnings: 0