Package: DELocal Version: 1.7.0 Command: E:\biocbuild\bbs-3.21-bioc\R\bin\R.exe CMD INSTALL DELocal StartedAt: 2025-02-05 16:05:47 -0500 (Wed, 05 Feb 2025) EndedAt: 2025-02-05 16:06:15 -0500 (Wed, 05 Feb 2025) EllapsedTime: 28.4 seconds RetCode: 0 Status: OK