Package: DEScan2 Version: 1.27.0 Command: rm -rf DEScan2.buildbin-libdir && mkdir DEScan2.buildbin-libdir && /Users/biocbuild/BBS/utils/build-universal.sh DEScan2_1.27.0.tar.gz /Library/Frameworks/R.framework/Resources/bin/R DEScan2.buildbin-libdir StartedAt: 2025-02-09 22:12:08 -0500 (Sun, 09 Feb 2025) EndedAt: 2025-02-09 22:12:33 -0500 (Sun, 09 Feb 2025) EllapsedTime: 24.5 seconds RetCode: 0 Status: OK PackageFile: DEScan2_1.27.0.tgz PackageFileSize: 2.601 MiB