Package: DEScan2 Version: 1.27.0 Command: /Library/Frameworks/R.framework/Resources/bin/R CMD check --install=check:DEScan2.install-out.txt --library=/Library/Frameworks/R.framework/Resources/library --no-vignettes --timings DEScan2_1.27.0.tar.gz StartedAt: 2025-02-12 18:59:34 -0500 (Wed, 12 Feb 2025) EndedAt: 2025-02-12 19:02:27 -0500 (Wed, 12 Feb 2025) EllapsedTime: 173.1 seconds RetCode: 0 Status: WARNINGS CheckDir: DEScan2.Rcheck Warnings: 2