Package: DEScan2 Version: 1.27.0 Command: /Library/Frameworks/R.framework/Resources/bin/R CMD INSTALL DEScan2 StartedAt: 2025-02-09 15:22:59 -0500 (Sun, 09 Feb 2025) EndedAt: 2025-02-09 15:23:20 -0500 (Sun, 09 Feb 2025) EllapsedTime: 21.7 seconds RetCode: 0 Status: OK