Package: DEScan2 Version: 1.27.0 Command: /home/biocbuild/R/R/bin/R CMD check --install=check:DEScan2.install-out.txt --library=/home/biocbuild/R/R/site-library --no-vignettes --timings DEScan2_1.27.0.tar.gz StartedAt: 2025-01-28 09:55:17 -0000 (Tue, 28 Jan 2025) EndedAt: 2025-01-28 10:05:57 -0000 (Tue, 28 Jan 2025) EllapsedTime: 639.8 seconds RetCode: 0 Status: WARNINGS CheckDir: DEScan2.Rcheck Warnings: 6