Package: DEScan2 Version: 1.27.0 Command: /home/biocbuild/bbs-3.21-bioc/R/bin/R CMD build --keep-empty-dirs --no-resave-data DEScan2 StartedAt: 2025-02-09 16:59:16 -0500 (Sun, 09 Feb 2025) EndedAt: 2025-02-09 17:00:53 -0500 (Sun, 09 Feb 2025) EllapsedTime: 96.1 seconds RetCode: 0 Status: OK PackageFile: DEScan2_1.27.0.tar.gz PackageFileSize: 2.482 MiB