Package: DEScan2 Version: 1.27.0 Command: /home/biocbuild/bbs-3.21-bioc/R/bin/R CMD check --install=check:DEScan2.install-out.txt --library=/home/biocbuild/bbs-3.21-bioc/R/site-library --timings DEScan2_1.27.0.tar.gz StartedAt: 2025-02-09 21:43:45 -0500 (Sun, 09 Feb 2025) EndedAt: 2025-02-09 21:51:51 -0500 (Sun, 09 Feb 2025) EllapsedTime: 485.7 seconds RetCode: 0 Status: WARNINGS CheckDir: DEScan2.Rcheck Warnings: 2