Package: DEScan2 Version: 1.27.0 Command: rm -rf DEScan2.buildbin-libdir && mkdir DEScan2.buildbin-libdir && E:\biocbuild\bbs-3.21-bioc\R\bin\R.exe CMD INSTALL --build --library=DEScan2.buildbin-libdir DEScan2_1.27.0.tar.gz StartedAt: 2025-02-10 07:37:15 -0500 (Mon, 10 Feb 2025) EndedAt: 2025-02-10 07:38:29 -0500 (Mon, 10 Feb 2025) EllapsedTime: 74.0 seconds RetCode: 0 Status: OK PackageFile: DEScan2_1.27.0.zip PackageFileSize: 2.831 MiB