Package: DEScan2 Version: 1.27.0 Command: chmod a+r DEScan2 -R && E:\biocbuild\bbs-3.21-bioc\R\bin\R.exe CMD build --keep-empty-dirs --no-resave-data DEScan2 StartedAt: 2025-02-09 18:19:35 -0500 (Sun, 09 Feb 2025) EndedAt: 2025-02-09 18:22:02 -0500 (Sun, 09 Feb 2025) EllapsedTime: 146.6 seconds RetCode: 0 Status: OK PackageFile: DEScan2_1.27.0.tar.gz PackageFileSize: 2.404 MiB