Package: DESpace Version: 1.7.0 Command: /Library/Frameworks/R.framework/Resources/bin/R CMD build --keep-empty-dirs --no-resave-data DESpace StartedAt: 2025-02-03 16:44:19 -0500 (Mon, 03 Feb 2025) EndedAt: 2025-02-03 16:47:19 -0500 (Mon, 03 Feb 2025) EllapsedTime: 180.0 seconds RetCode: 0 Status: OK PackageFile: DESpace_1.7.0.tar.gz PackageFileSize: 5.768 MiB