Package: DESpace Version: 1.7.0 Command: /Library/Frameworks/R.framework/Resources/bin/R CMD INSTALL DESpace StartedAt: 2025-02-03 16:02:30 -0500 (Mon, 03 Feb 2025) EndedAt: 2025-02-03 16:02:40 -0500 (Mon, 03 Feb 2025) EllapsedTime: 10.2 seconds RetCode: 0 Status: OK