Package: DESpace Version: 1.7.0 Command: /home/biocbuild/R/R/bin/R CMD build --keep-empty-dirs --no-resave-data DESpace StartedAt: 2025-01-28 22:26:18 -0000 (Tue, 28 Jan 2025) EndedAt: 2025-01-28 22:38:27 -0000 (Tue, 28 Jan 2025) EllapsedTime: 729.3 seconds RetCode: 0 Status: OK PackageFile: DESpace_1.7.0.tar.gz PackageFileSize: 1.439 MiB