Package: DESpace Version: 1.7.0 Command: /home/biocbuild/R/R/bin/R CMD check --install=check:DESpace.install-out.txt --library=/home/biocbuild/R/R/site-library --no-vignettes --timings DESpace_1.7.0.tar.gz StartedAt: 2025-01-28 09:56:11 -0000 (Tue, 28 Jan 2025) EndedAt: 2025-01-28 10:01:11 -0000 (Tue, 28 Jan 2025) EllapsedTime: 300.3 seconds RetCode: 0 Status: OK CheckDir: DESpace.Rcheck Warnings: 0