Package: DESpace Version: 1.7.0 Command: /home/biocbuild/R/R/bin/R CMD INSTALL DESpace StartedAt: 2025-01-29 20:32:21 -0000 (Wed, 29 Jan 2025) EndedAt: 2025-01-29 20:32:59 -0000 (Wed, 29 Jan 2025) EllapsedTime: 37.5 seconds RetCode: 0 Status: OK